BEGIN:VCALENDAR
VERSION:2.0
PRODID:-//wp-events-plugin.com//7.2.3.1//EN
TZID:Europe/Berlin
X-WR-TIMEZONE:Europe/Berlin
BEGIN:VEVENT
UID:1052@pedav.de
DTSTART;TZID=Europe/Berlin:20260608T093000
DTEND;TZID=Europe/Berlin:20260608T160000
DTSTAMP:20260106T110807Z
URL:https://www.pedav.de/events/wertrechnung-mit-untis-praesenzseminar-3/
SUMMARY:Wertrechnung mit Untis Präsenzseminar
DESCRIPTION:Der Schwerpunkt dieses Seminars liegt auf der Verwaltung der
 Lehrer-Wochen- und Jahresarbeitszeit\, der Pauschalen\, Entlastungen und
 Teilzeit-Regelungen.\nWeiterhin geht es um die Verwaltung von Fachgruppen\,
 Lehrbefähigungen und Stundentafeln sowie den Planungswerkzeugen Lehrer-
 und Unterrichtsvorschlag\, Fachengpass-Analyse\, Teamoptimierung\,
 variabler Lehrer und der Unterrichtsmatrix.\n\nBitte bringen Sie Ihre
 Planungsdatei zum Seminar mit!
CATEGORIES:Die Wertrechnung,Modul-Seminare
LOCATION:PEDAV - das Softwarehaus für Schulen GmbH & Co. KG\,
 Schönebecker Strasse 1\, Essen\, Deutschland\, 45359\, NRW\, Deutschland
GEO:51.4544968;6.940882299999998
X-APPLE-STRUCTURED-LOCATION;VALUE=URI;X-ADDRESS=Schönebecker Strasse 1\,
 Essen\, Deutschland\, 45359\, NRW\,
 Deutschland;X-APPLE-RADIUS=100;X-TITLE=PEDAV - das Softwarehaus für
 Schulen GmbH & Co. KG:geo:51.4544968,6.940882299999998
END:VEVENT
BEGIN:VTIMEZONE
TZID:Europe/Berlin
X-LIC-LOCATION:Europe/Berlin
BEGIN:DAYLIGHT
DTSTART:20260329T030000
TZOFFSETFROM:+0100
TZOFFSETTO:+0200
TZNAME:CEST
END:DAYLIGHT
END:VTIMEZONE
END:VCALENDAR