BEGIN:VCALENDAR
VERSION:2.0
PRODID:-//wp-events-plugin.com//7.2.3.1//EN
TZID:Europe/Berlin
X-WR-TIMEZONE:Europe/Berlin
BEGIN:VEVENT
UID:1076@pedav.de
DTSTART;TZID=Europe/Berlin:20260318T093000
DTEND;TZID=Europe/Berlin:20260319T160000
DTSTAMP:20260316T070110Z
URL:https://www.pedav.de/events/webuntis-fuer-administratoren-praesenzsemi
 nar-48/
SUMMARY:Administration WebUntis Grundpaket/Klassenbuch Präsenzseminar
DESCRIPTION:Das Seminar richtet sich an alle neuen und bestehenden
 WebUntis-Administratoren.\nHier erhalten Sie alle Informationen zu den
 WebUntis Basispaket und WebUntis-Modulen wie Klassenbuch und Termin.
 Außerdem werden die Arbeitsabläufe wie Im- &amp\; Export von Daten\, das
 Einrichten von Umgebungen und Benutzern sowie der optimale Einsatz der
 Benutzerberechtigungen exemplarisch durchgeführt.
CATEGORIES:Spezial-Seminare,WebUntis für Administratoren
LOCATION:PEDAV - das Softwarehaus für Schulen GmbH & Co. KG\,
 Schönebecker Strasse 1\, Essen\, Deutschland\, 45359\, NRW\, Deutschland
GEO:51.4544968;6.940882299999998
X-APPLE-STRUCTURED-LOCATION;VALUE=URI;X-ADDRESS=Schönebecker Strasse 1\,
 Essen\, Deutschland\, 45359\, NRW\,
 Deutschland;X-APPLE-RADIUS=100;X-TITLE=PEDAV - das Softwarehaus für
 Schulen GmbH & Co. KG:geo:51.4544968,6.940882299999998
END:VEVENT
BEGIN:VTIMEZONE
TZID:Europe/Berlin
X-LIC-LOCATION:Europe/Berlin
BEGIN:STANDARD
DTSTART:20251026T020000
TZOFFSETFROM:+0200
TZOFFSETTO:+0100
TZNAME:CET
END:STANDARD
END:VTIMEZONE
END:VCALENDAR