BEGIN:VCALENDAR
VERSION:2.0
PRODID:-//wp-events-plugin.com//7.2.3.1//EN
TZID:Europe/Berlin
X-WR-TIMEZONE:Europe/Berlin
BEGIN:VEVENT
UID:1070@pedav.de
DTSTART;TZID=Europe/Berlin:20260617T093000
DTEND;TZID=Europe/Berlin:20260617T160000
DTSTAMP:20260107T115918Z
URL:https://www.pedav.de/events/vertiefung-in-die-untis-vertretungsplanung
 -praesenzseminar/
SUMMARY:Vertiefung in die Untis Vertretungsplanung - Präsenzseminar
DESCRIPTION:Dieses Seminar knüpft inhaltlich unmittelbar an das
 Basisseminar an. Nach einem kurzen Rundgang durch die wichtigsten
 Einstellungen der Vertretungsplanung wird das Einrichten von Dauerabsenzen
 besprochen. Ein Exkurs zu dem Einrichten von Perioden wird eingelegt\, um
 Praktika u.ä. planen zu können. Um individuelle Änderungen planen zu
 können\, werden Anwendungsbeispiele für den Planungsdialog der
 Vertretungsplanung sowie die Vormerkungen besprochen.\n\nNach den
 praktischen Phasen werden anschließend noch Auswertungsfunktionen mit
 Hilfe von Berichten und selbst definierten Druckansichten
 erläutert.\n\n&nbsp\;\n\nBitte bringen Sie Ihre Planungsdatei zum Seminar
 mit!
CATEGORIES:Modul-Seminare,Vertretungsplanung Teil 2
LOCATION:PEDAV - das Softwarehaus für Schulen GmbH & Co. KG\,
 Schönebecker Strasse 1\, Essen\, Deutschland\, 45359\, NRW\, Deutschland
GEO:51.4544968;6.940882299999998
X-APPLE-STRUCTURED-LOCATION;VALUE=URI;X-ADDRESS=Schönebecker Strasse 1\,
 Essen\, Deutschland\, 45359\, NRW\,
 Deutschland;X-APPLE-RADIUS=100;X-TITLE=PEDAV - das Softwarehaus für
 Schulen GmbH & Co. KG:geo:51.4544968,6.940882299999998
END:VEVENT
BEGIN:VTIMEZONE
TZID:Europe/Berlin
X-LIC-LOCATION:Europe/Berlin
BEGIN:DAYLIGHT
DTSTART:20260329T030000
TZOFFSETFROM:+0100
TZOFFSETTO:+0200
TZNAME:CEST
END:DAYLIGHT
END:VTIMEZONE
END:VCALENDAR