BEGIN:VCALENDAR
VERSION:2.0
PRODID:-//wp-events-plugin.com//7.2.3.1//EN
TZID:Europe/Berlin
X-WR-TIMEZONE:Europe/Berlin
BEGIN:VEVENT
UID:1038@pedav.de
DTSTART;TZID=Europe/Berlin:20260715T093000
DTEND;TZID=Europe/Berlin:20260716T160000
DTSTAMP:20260105T124021Z
URL:https://www.pedav.de/events/vertiefung-in-die-untis-stundenplanung-pra
 esenzseminar-6/
SUMMARY:Vertiefung in die Untis Stundenplanung Präsenzseminar
DESCRIPTION:Ist die Dateneingabe abgeschlossen\, stellt sich die Frage nach
 dem effektivsten Weg zu einem guten Stundenplan. Dieses Seminar führt Sie
 durch die Einstellungen der Gewichtung\, die automatische Optimierung 
 sowie die nachfolgende Diagnose der Stundenpläne. Zudem werden die
 Vielfältigen Werkzeuge für die gezielte manuelle Planung vor und nach der
 Optimierung detailliert besprochen. Ihre Anwendung wird in intensiven
 Übungsphasen trainiert. Ziel des Seminars ist die optimale Vorbereitung
 auf eine erfolgreiche selbständige Sundenplanung.
CATEGORIES:Spezial-Seminare,Stundenplanung Teil 2
LOCATION:PEDAV - das Softwarehaus für Schulen GmbH & Co. KG\,
 Schönebecker Strasse 1\, Essen\, Deutschland\, 45359\, NRW\, Deutschland
GEO:51.4544968;6.940882299999998
X-APPLE-STRUCTURED-LOCATION;VALUE=URI;X-ADDRESS=Schönebecker Strasse 1\,
 Essen\, Deutschland\, 45359\, NRW\,
 Deutschland;X-APPLE-RADIUS=100;X-TITLE=PEDAV - das Softwarehaus für
 Schulen GmbH & Co. KG:geo:51.4544968,6.940882299999998
END:VEVENT
BEGIN:VTIMEZONE
TZID:Europe/Berlin
X-LIC-LOCATION:Europe/Berlin
BEGIN:DAYLIGHT
DTSTART:20260329T030000
TZOFFSETFROM:+0100
TZOFFSETTO:+0200
TZNAME:CEST
END:DAYLIGHT
END:VTIMEZONE
END:VCALENDAR