BEGIN:VCALENDAR
VERSION:2.0
PRODID:-//wp-events-plugin.com//7.2.3.1//EN
TZID:Europe/Berlin
X-WR-TIMEZONE:Europe/Berlin
BEGIN:VEVENT
UID:1085@pedav.de
DTSTART;TZID=Europe/Berlin:20260618T090000
DTEND;TZID=Europe/Berlin:20260619T120000
DTSTAMP:20260210T135137Z
URL:https://www.pedav.de/events/vertiefung-in-die-untis-stundenplanung-onl
 ine/
SUMMARY:Vertiefung in die Untis Stundenplanung Onlineseminar
DESCRIPTION:Ist die Dateneingabe abgeschlossen\, stellt sich die Frage nach
 dem effektivsten Weg zu einem guten Stundenplan. Dieses Seminar führt Sie
 durch die Einstellungen der Gewichtung\, die automatische Optimierung 
 sowie die nachfolgende Diagnose der Stundenpläne. Zudem werden die
 Vielfältigen Werkzeuge für die gezielte manuelle Planung vor und nach der
 Optimierung detailliert besprochen. Ihre Anwendung wird in intensiven
 Übungsphasen trainiert. Ziel des Seminars ist die optimale Vorbereitung
 auf eine erfolgreiche selbständige Sundenplanung.
CATEGORIES:Spezial-Seminare,Stundenplanung Teil 2
END:VEVENT
BEGIN:VTIMEZONE
TZID:Europe/Berlin
X-LIC-LOCATION:Europe/Berlin
BEGIN:DAYLIGHT
DTSTART:20260329T030000
TZOFFSETFROM:+0100
TZOFFSETTO:+0200
TZNAME:CEST
END:DAYLIGHT
END:VTIMEZONE
END:VCALENDAR