BEGIN:VCALENDAR
VERSION:2.0
PRODID:-//wp-events-plugin.com//7.2.3.1//EN
TZID:Europe/Berlin
X-WR-TIMEZONE:Europe/Berlin
BEGIN:VEVENT
UID:1020@pedav.de
DTSTART;TZID=Europe/Berlin:20251216T113000
DTEND;TZID=Europe/Berlin:20251216T121500
DTSTAMP:20251211T075844Z
URL:https://www.pedav.de/events/test/
SUMMARY:Test
DESCRIPTION:test
END:VEVENT
BEGIN:VTIMEZONE
TZID:Europe/Berlin
X-LIC-LOCATION:Europe/Berlin
BEGIN:STANDARD
DTSTART:20251026T020000
TZOFFSETFROM:+0200
TZOFFSETTO:+0100
TZNAME:CET
END:STANDARD
END:VTIMEZONE
END:VCALENDAR