BEGIN:VCALENDAR
VERSION:2.0
PRODID:-//wp-events-plugin.com//7.2.3.1//EN
TZID:Europe/Berlin
X-WR-TIMEZONE:Europe/Berlin
BEGIN:VEVENT
UID:1019@pedav.de
DTSTART;TZID=Europe/Berlin:20260120T123000
DTEND;TZID=Europe/Berlin:20260121T153000
DTSTAMP:20250717T082850Z
URL:https://www.pedav.de/events/stundenplanung-teil-1-onlineseminar/
SUMMARY:Stundenplanung Teil 1 Onlineseminar
DESCRIPTION:Dieses Seminar stellt die Grundlage der Untis Stundenplanung
 dar und dient als Einstieg in die Stundenplanung. Neben der Dateneingabe
 der Stammdaten und den abbilden der Unterrichtsverteilung wird darüber
 hinaus auch die Erstellung des Stundenplans besprochen und geübt.
 Außerdem werden die verschiedenen Ausgabe-Optionen gezeigt.
CATEGORIES:Planungsseminare,Stundenplanung Teil 1
LOCATION:PEDAV - das Softwarehaus für Schulen GmbH & Co. KG\,
 Schönebecker Strasse 1\, Essen\, Deutschland\, 45359\, NRW\, Deutschland
GEO:51.4544968;6.940882299999998
X-APPLE-STRUCTURED-LOCATION;VALUE=URI;X-ADDRESS=Schönebecker Strasse 1\,
 Essen\, Deutschland\, 45359\, NRW\,
 Deutschland;X-APPLE-RADIUS=100;X-TITLE=PEDAV - das Softwarehaus für
 Schulen GmbH & Co. KG:geo:51.4544968,6.940882299999998
END:VEVENT
BEGIN:VTIMEZONE
TZID:Europe/Berlin
X-LIC-LOCATION:Europe/Berlin
BEGIN:STANDARD
DTSTART:20251026T020000
TZOFFSETFROM:+0200
TZOFFSETTO:+0100
TZNAME:CET
END:STANDARD
END:VTIMEZONE
END:VCALENDAR