BEGIN:VCALENDAR
VERSION:2.0
PRODID:-//wp-events-plugin.com//7.2.3.1//EN
TZID:Europe/Berlin
X-WR-TIMEZONE:Europe/Berlin
BEGIN:VEVENT
UID:1039@pedav.de
DTSTART;TZID=Europe/Berlin:20260225T093000
DTEND;TZID=Europe/Berlin:20260225T160000
DTSTAMP:20260106T083022Z
URL:https://www.pedav.de/events/pedav-untis-tool-365-praesenzseminar-21/
SUMMARY:Pedav Untis Tool 365 Präsenzseminar
DESCRIPTION:In diesem Seminar lernen Sie alles\, rund um das Pedav Untis
 Tool 365.\n\nEs werden zu den drei Bereichen ASD\, LBV und Untstat die
 notwendigen eingaben in Untis und das Handling im Pedav Untis Tool
 erklärt.\n\n&nbsp\;
CATEGORIES:PEDAV Untis Tool 365,Spezial-Seminare
LOCATION:PEDAV - das Softwarehaus für Schulen GmbH & Co. KG\,
 Schönebecker Strasse 1\, Essen\, Deutschland\, 45359\, NRW\, Deutschland
GEO:51.4544968;6.940882299999998
X-APPLE-STRUCTURED-LOCATION;VALUE=URI;X-ADDRESS=Schönebecker Strasse 1\,
 Essen\, Deutschland\, 45359\, NRW\,
 Deutschland;X-APPLE-RADIUS=100;X-TITLE=PEDAV - das Softwarehaus für
 Schulen GmbH & Co. KG:geo:51.4544968,6.940882299999998
END:VEVENT
BEGIN:VTIMEZONE
TZID:Europe/Berlin
X-LIC-LOCATION:Europe/Berlin
BEGIN:STANDARD
DTSTART:20251026T020000
TZOFFSETFROM:+0200
TZOFFSETTO:+0100
TZNAME:CET
END:STANDARD
END:VTIMEZONE
END:VCALENDAR