BEGIN:VCALENDAR
VERSION:2.0
PRODID:-//wp-events-plugin.com//7.2.3.1//EN
TZID:Europe/Berlin
X-WR-TIMEZONE:Europe/Berlin
BEGIN:VEVENT
UID:1042@pedav.de
DTSTART;TZID=Europe/Berlin:20260601T090000
DTEND;TZID=Europe/Berlin:20260601T130000
DTSTAMP:20260106T083324Z
URL:https://www.pedav.de/events/pedav-untis-tool-365-onlineseminar-12/
SUMMARY:Pedav Untis Tool 365 Onlineseminar
DESCRIPTION:In diesem Seminar lernen Sie alles\, rund um das Pedav Untis
 Tool 365.\n\nEs werden zu den drei Bereichen ASD\, LBV und Untstat die
 notwendigen eingaben in Untis und das Handling im Pedav Untis Tool
 erklärt.\n\n&nbsp\;
CATEGORIES:PEDAV Untis Tool 365,Spezial-Seminare
LOCATION:PEDAV - das Softwarehaus für Schulen GmbH & Co. KG\,
 Schönebecker Strasse 1\, Essen\, Deutschland\, 45359\, NRW\, Deutschland
GEO:51.4544968;6.940882299999998
X-APPLE-STRUCTURED-LOCATION;VALUE=URI;X-ADDRESS=Schönebecker Strasse 1\,
 Essen\, Deutschland\, 45359\, NRW\,
 Deutschland;X-APPLE-RADIUS=100;X-TITLE=PEDAV - das Softwarehaus für
 Schulen GmbH & Co. KG:geo:51.4544968,6.940882299999998
END:VEVENT
BEGIN:VTIMEZONE
TZID:Europe/Berlin
X-LIC-LOCATION:Europe/Berlin
BEGIN:DAYLIGHT
DTSTART:20260329T030000
TZOFFSETFROM:+0100
TZOFFSETTO:+0200
TZNAME:CEST
END:DAYLIGHT
END:VTIMEZONE
END:VCALENDAR