BEGIN:VCALENDAR
VERSION:2.0
PRODID:-//wp-events-plugin.com//7.2.3.1//EN
TZID:Europe/Berlin
X-WR-TIMEZONE:Europe/Berlin
BEGIN:VEVENT
UID:1087@pedav.de
DTSTART;TZID=Europe/Berlin:20260520T093000
DTEND;TZID=Europe/Berlin:20260520T160000
DTSTAMP:20260413T105117Z
URL:https://www.pedav.de/events/kundentreffen-nrw-2026-2/
SUMMARY:Kundentreffen NRW 2026
DESCRIPTION:Liebe Untis-Anwender!\nBereits zum 41. Mal laden wir Sie zu
 unserem Kundentreffen in Nordrhein-Westfalen ein. Freuen Sie sich wieder
 auf viele spannende Themen rund um Ihren Schulalltag  mit Untis und
 WebUntis.\nAm 20. Mai 2026\, von 9:30 Uhr bis 16:00 Uhr\, begrüßen wir
 Sie wieder in der Dampfe\, Heinrich-Brauns-Straße 9-15\, in 45355 Essen.
 Wie in den vergangenen Jahren können sie für die Mittagspause aus einer
 Auswahl an Gerichten vorbestellen. Die Auswahl können Sie hier bei der
 Anmeldung online treffen.\nMit Untis DER Plattform für Schulen sind Sie
 bestens für die Anforderungen des Schulalltags gerüstet. Kommen Sie zum
 Kundentreffen und\n	lernen neue Funktionalitäten und Features
 kennen\,\nerhalten Wertvolle Tipps und Tricks\,\nnutzen Sie die
 Möglichkeiten für aktives Netzwerken und
 Erfahrungsaustausch.\n\n\nSpannende Punkte auf der Agenda sind\, unter
 anderem\, die neue Notfallhilfe\, ein Automatismus für die Volljährigkeit
 von Schülern oder auch die Möglichkeit Schüler einfach und flexibel
 Unterrichten und Angeboten zuzuteilen. Weiterhin freuen wir uns Ihnen einen
 neuen Messenger sowie das digitale Unfallbuch präsentieren zu
 dürfen.\n\nWir freuen uns auf Sie!Ihr Pedav-Team\n
CATEGORIES:Kundentreffen NRW,Veranstaltungen
LOCATION:Dampfe Essen\, Heinrich-Brauns-Straße 9-15\, 45355 Essen\,
 Nordrhein-Westfalen\, Deutschland
GEO:51.473469;6.947286
X-APPLE-STRUCTURED-LOCATION;VALUE=URI;X-ADDRESS=Heinrich-Brauns-Straße
 9-15\, 45355 Essen\, Nordrhein-Westfalen\,
 Deutschland;X-APPLE-RADIUS=100;X-TITLE=Dampfe Essen:geo:51.473469,6.947286
END:VEVENT
BEGIN:VTIMEZONE
TZID:Europe/Berlin
X-LIC-LOCATION:Europe/Berlin
BEGIN:DAYLIGHT
DTSTART:20260329T030000
TZOFFSETFROM:+0100
TZOFFSETTO:+0200
TZNAME:CEST
END:DAYLIGHT
END:VTIMEZONE
END:VCALENDAR