BEGIN:VCALENDAR
VERSION:2.0
PRODID:-//wp-events-plugin.com//7.2.3.1//EN
TZID:Europe/Berlin
X-WR-TIMEZONE:Europe/Berlin
BEGIN:VEVENT
UID:1063@pedav.de
DTSTART;TZID=Europe/Berlin:20260318T090000
DTEND;TZID=Europe/Berlin:20260319T120000
DTSTAMP:20260107T095829Z
URL:https://www.pedav.de/events/einfuehrung-in-die-untis-vertretungsplanun
 g-onlineseminar/
SUMMARY:Einführung in die Untis Vertretungsplanung - Onlineseminar
DESCRIPTION:Dieses zweitägige Seminar richtet sich an alle Planerinnen und
 Planer\, die Ohne Vorkenntnisse in die Vertretungsplanung einsteigen! Die
 ersten Themen des Seminars sind die optimale Einrichtung der
 Arbeitsoberfläche und die Definition der Vorgabendaten wie zum Beispiel
 der Absenzgründe und Vertretungs-Zeitraster. Anschließend werden alle
 für die tägliche Problemlösung benötigten Funktionen um Zusammengang
 alltäglicher Vertretungs-Situationen erklärt und ihre Anwendung in
 vorbereiteten Übungsdateien nachvollzogen und geübt. Darüber hinaus
 werden auch die Einstellungen für den Druck der Vertretungslisten
 besprochen.
CATEGORIES:Modul-Seminare,Vertretungsplanung Teil 1
END:VEVENT
BEGIN:VTIMEZONE
TZID:Europe/Berlin
X-LIC-LOCATION:Europe/Berlin
BEGIN:STANDARD
DTSTART:20251026T020000
TZOFFSETFROM:+0200
TZOFFSETTO:+0100
TZNAME:CET
END:STANDARD
END:VTIMEZONE
END:VCALENDAR