BEGIN:VCALENDAR
VERSION:2.0
PRODID:-//wp-events-plugin.com//7.2.3.1//EN
TZID:Europe/Berlin
X-WR-TIMEZONE:Europe/Berlin
BEGIN:VEVENT
UID:1026@pedav.de
DTSTART;TZID=Europe/Berlin:20260507T093000
DTEND;TZID=Europe/Berlin:20260508T160000
DTSTAMP:20260202T103454Z
URL:https://www.pedav.de/events/einfuehrung-in-die-untis-stundenplanung-pr
 aesenzseminar-4/
SUMMARY:Einführung in die Untis Stundenplanung - Präsenzseminar
DESCRIPTION:Das zweitägige Intensiv-Seminar Einführung in die Untis
 Stundenplanung richten sich an alle Kolleginnen und Kol-legen\, die ohne
 Vorkenntnisse in die Stundenplanung mit Untis einsteigen. Von den
 allgemeinen Einstellungen (wie z.B. Schuldaten und Zeitraster) über die
 Stammdaten (Klassen\, Lehrer\, Fächer und Räume) und die
 Unterrichtsverteilung bis hin zur Gewichtung und Optimierung der
 Stundenpläne werden alle Eingaben und Funktionen ausführlich
 besprochen.\nDie intensiven Übungsphasen sind das besondere Merkmal dieser
 Seminare in Präsenzform. Sie vertiefen die vermittelten Inhalte\, die für
 eine selbständige und erfolgreiche Stundenplanung mit Untis entscheidend
 sind.\n
CATEGORIES:Planungsseminare,Stundenplanung Teil 1
LOCATION:PEDAV - das Softwarehaus für Schulen GmbH & Co. KG\,
 Schönebecker Strasse 1\, Essen\, Deutschland\, 45359\, NRW\, Deutschland
GEO:51.4544968;6.940882299999998
X-APPLE-STRUCTURED-LOCATION;VALUE=URI;X-ADDRESS=Schönebecker Strasse 1\,
 Essen\, Deutschland\, 45359\, NRW\,
 Deutschland;X-APPLE-RADIUS=100;X-TITLE=PEDAV - das Softwarehaus für
 Schulen GmbH & Co. KG:geo:51.4544968,6.940882299999998
END:VEVENT
BEGIN:VTIMEZONE
TZID:Europe/Berlin
X-LIC-LOCATION:Europe/Berlin
BEGIN:DAYLIGHT
DTSTART:20260329T030000
TZOFFSETFROM:+0100
TZOFFSETTO:+0200
TZNAME:CEST
END:DAYLIGHT
END:VTIMEZONE
END:VCALENDAR