BEGIN:VCALENDAR
VERSION:2.0
PRODID:-//wp-events-plugin.com//7.2.3.1//EN
TZID:Europe/Berlin
X-WR-TIMEZONE:Europe/Berlin
BEGIN:VEVENT
UID:1047@pedav.de
DTSTART;TZID=Europe/Berlin:20260615T093000
DTEND;TZID=Europe/Berlin:20260616T160000
DTSTAMP:20260106T092356Z
URL:https://www.pedav.de/events/einfuehrung-in-die-untis-kursplanung-praes
 enzseminar-4/
SUMMARY:Einführung in die Untis Kursplanung Präsenzseminar
DESCRIPTION:Das Seminar zur Kurs- und Klausurplanung für die Gymnasiale
 Oberstufe vermittelt die Einzigartigen Planungsfunktionen dieses Moduls bis
 hin zur Bandoptimierung. Für die verschiedenen Optimierungsstrategien wird
 gezeigt\, wie Sie ganz gezielt auf die Struktur Ihrer Schule eingehen
 können.
CATEGORIES:Kursplanung (Oberstufe),Modul-Seminare
LOCATION:PEDAV - das Softwarehaus für Schulen GmbH & Co. KG\,
 Schönebecker Strasse 1\, Essen\, Deutschland\, 45359\, NRW\, Deutschland
GEO:51.4544968;6.940882299999998
X-APPLE-STRUCTURED-LOCATION;VALUE=URI;X-ADDRESS=Schönebecker Strasse 1\,
 Essen\, Deutschland\, 45359\, NRW\,
 Deutschland;X-APPLE-RADIUS=100;X-TITLE=PEDAV - das Softwarehaus für
 Schulen GmbH & Co. KG:geo:51.4544968,6.940882299999998
END:VEVENT
BEGIN:VTIMEZONE
TZID:Europe/Berlin
X-LIC-LOCATION:Europe/Berlin
BEGIN:DAYLIGHT
DTSTART:20260329T030000
TZOFFSETFROM:+0100
TZOFFSETTO:+0200
TZNAME:CEST
END:DAYLIGHT
END:VTIMEZONE
END:VCALENDAR