BEGIN:VCALENDAR
VERSION:2.0
PRODID:-//wp-events-plugin.com//7.2.3.1//EN
TZID:Europe/Berlin
X-WR-TIMEZONE:Europe/Berlin
BEGIN:VEVENT
UID:1071@pedav.de
DTSTART;TZID=Europe/Berlin:20260323T093000
DTEND;TZID=Europe/Berlin:20260323T160000
DTSTAMP:20260317T113003Z
URL:https://www.pedav.de/events/der-schul-und-halbjahreswechsel-praesenzse
 minar-15/
SUMMARY:Der Schul- und Halbjahreswechsel Präsenzseminar
DESCRIPTION:Interessant und gewinnbringend für Planer aller Schulformen:
 Der Schuljahreswechsel. Bitte bringen Sie die eigene Planungsdatei zum
 Seminar mit (USB-Stick)\, da alle Eingabedaten im Rahmen dieses Seminars
 unter fachmännischer Anleitung geprüft und gegebenenfalls ergänzt oder
 korrigiert werden. Die Gelegenheit zur Auffrischung Ihrer Kenntnisse\, zur
 professionellen Kontrolle Ihrer Eingabedaten und zur Einarbeitung in die
 aktuelle Programmversion.
CATEGORIES:Der Schul- und Halbjahreswechsel,Spezial-Seminare
LOCATION:PEDAV - das Softwarehaus für Schulen GmbH & Co. KG\,
 Schönebecker Strasse 1\, Essen\, Deutschland\, 45359\, NRW\, Deutschland
GEO:51.4544968;6.940882299999998
X-APPLE-STRUCTURED-LOCATION;VALUE=URI;X-ADDRESS=Schönebecker Strasse 1\,
 Essen\, Deutschland\, 45359\, NRW\,
 Deutschland;X-APPLE-RADIUS=100;X-TITLE=PEDAV - das Softwarehaus für
 Schulen GmbH & Co. KG:geo:51.4544968,6.940882299999998
END:VEVENT
BEGIN:VTIMEZONE
TZID:Europe/Berlin
X-LIC-LOCATION:Europe/Berlin
BEGIN:STANDARD
DTSTART:20251026T020000
TZOFFSETFROM:+0200
TZOFFSETTO:+0100
TZNAME:CET
END:STANDARD
END:VTIMEZONE
END:VCALENDAR