BEGIN:VCALENDAR
VERSION:2.0
PRODID:-//wp-events-plugin.com//7.2.3.1//EN
TZID:Europe/Berlin
X-WR-TIMEZONE:Europe/Berlin
BEGIN:VEVENT
UID:1083@pedav.de
DTSTART;TZID=Europe/Berlin:20260622T123000
DTEND;TZID=Europe/Berlin:20260623T153000
DTSTAMP:20260112T143551Z
URL:https://www.pedav.de/events/administration-webuntis-onlineseminar-2/
SUMMARY:Administration WebUntis Grundpaket/Klassenbuch Onlineseminar
DESCRIPTION:Das Seminar richtet sich an alle neuen und bestehenden
 WebUntis-Administratoren.\n\nHier erhalten Sie alle Informationen zu den
 WebUntis Basispaket und WebUntis-Modulen wie Klassenbuch und
 Termin.\nAußerdem werden die Arbeitsabläufe wie Im- &amp\; Export von
 Daten\, das Einrichten von Umgebungen und Benutzern sowie der optimale
 Einsatz der Benutzerberechtigungen exemplarisch durchgeführt.
CATEGORIES:Spezial-Seminare,WebUntis für Administratoren
END:VEVENT
BEGIN:VTIMEZONE
TZID:Europe/Berlin
X-LIC-LOCATION:Europe/Berlin
BEGIN:DAYLIGHT
DTSTART:20260329T030000
TZOFFSETFROM:+0100
TZOFFSETTO:+0200
TZNAME:CEST
END:DAYLIGHT
END:VTIMEZONE
END:VCALENDAR